BEGIN:VCALENDAR
VERSION:2.0
PRODID:-//New Life Fellowship - ECPv6.15.20//NONSGML v1.0//EN
CALSCALE:GREGORIAN
METHOD:PUBLISH
X-WR-CALNAME:New Life Fellowship
X-ORIGINAL-URL:https://newlifesa.net
X-WR-CALDESC:Events for New Life Fellowship
REFRESH-INTERVAL;VALUE=DURATION:PT1H
X-Robots-Tag:noindex
X-PUBLISHED-TTL:PT1H
BEGIN:VTIMEZONE
TZID:America/Chicago
BEGIN:DAYLIGHT
TZOFFSETFROM:-0600
TZOFFSETTO:-0500
TZNAME:CDT
DTSTART:20250309T080000
END:DAYLIGHT
BEGIN:STANDARD
TZOFFSETFROM:-0500
TZOFFSETTO:-0600
TZNAME:CST
DTSTART:20251102T070000
END:STANDARD
BEGIN:DAYLIGHT
TZOFFSETFROM:-0600
TZOFFSETTO:-0500
TZNAME:CDT
DTSTART:20260308T080000
END:DAYLIGHT
BEGIN:STANDARD
TZOFFSETFROM:-0500
TZOFFSETTO:-0600
TZNAME:CST
DTSTART:20261101T070000
END:STANDARD
BEGIN:DAYLIGHT
TZOFFSETFROM:-0600
TZOFFSETTO:-0500
TZNAME:CDT
DTSTART:20270314T080000
END:DAYLIGHT
BEGIN:STANDARD
TZOFFSETFROM:-0500
TZOFFSETTO:-0600
TZNAME:CST
DTSTART:20271107T070000
END:STANDARD
BEGIN:DAYLIGHT
TZOFFSETFROM:-0600
TZOFFSETTO:-0500
TZNAME:CDT
DTSTART:20280312T080000
END:DAYLIGHT
BEGIN:STANDARD
TZOFFSETFROM:-0500
TZOFFSETTO:-0600
TZNAME:CST
DTSTART:20281105T070000
END:STANDARD
END:VTIMEZONE
BEGIN:VEVENT
DTSTART;TZID=America/Chicago:20260401T183000
DTEND;TZID=America/Chicago:20260401T203000
DTSTAMP:20260423T185802
CREATED:20240312T200218Z
LAST-MODIFIED:20260303T203605Z
UID:10000075-1775068200-1775075400@newlifesa.net
SUMMARY:Passover
DESCRIPTION:We are pressing in and preparing for a powerful and spirit filled Passover service. \nThis is a night we come together and reflect on Passover as we remember Jesus and what He did for us on the cross. We will celebrate together\, that Jesus is our lamb\, as Passover is a perpetual ordinance forever. \nWe are welcoming all to come and participate in this immersive experience. Get the word out in your small groups and communities! \nYou will not want to miss it! \n			\n				\n				\n				\n				\n				Childcare Sign Up\nChildcare is available for children five and under. Please RSVP below. \nNameEmail AddressPhoneChild(ren)Child's NameAge * Complete Sign Up
URL:https://newlifesa.net/event/passover/
LOCATION:New Life Fellowship\, 11225 E Loop 1604 N\, Universal City\, TX\, 78148\, United States
ATTACH;FMTTYPE=image/png:https://newlifesa.net/wp-content/uploads/2026/03/Passover-2026.png
END:VEVENT
BEGIN:VEVENT
DTSTART;TZID=America/Chicago:20260406T183000
DTEND;TZID=America/Chicago:20260406T203000
DTSTAMP:20260423T185802
CREATED:20250902T220948Z
LAST-MODIFIED:20260406T222119Z
UID:10000375-1775500200-1775507400@newlifesa.net
SUMMARY:LadiesLife
DESCRIPTION:This women’s group meets on the first Monday of each month to pray intentionally over the vision of New Life Fellowship and our local community. As we seek to be fitly joined—united in purpose\, spirit\, and heart—we also enjoy meaningful time together through shared activities\, conversation\, and encouragement. Whether it’s gathering around the table or engaging in fun and faith-building moments\, this group is a space for connection\, intercession\, and growing together in Christ. \nLocation: New Life Cafe\nMeeting Days: 1st Monday\, 6:30pm\nType: Women\nWill childcare be provided: No \nSign Up Today\nName *Phone *Email Address *ChildcareYesDo you need childcare?Select Your Small Group *Groups in session.Discover New LifeLadiesLifeMensLifeServe Team InterestStudent CONNECT (6th-12th Graders)Beyond Church WallsBig Emotions\, BIGGER GOD!Heart Of DavidHome MakerspaceIgniteLove Like JesusMiracles in the Parking LotM.O.F.I.A.(Men of Faith In Action)Pit Masters of PrayerPriscilla & AquilaPurpose Driven LifeTogether on PurposeWater WalkingWarriors of RamothWorship. Hear. Grow.Number of ChildrenAges of Children Sign me up!
URL:https://newlifesa.net/event/ladieslife-2/2026-04-06/
LOCATION:New Life Fellowship\, 11225 E Loop 1604 N\, Universal City\, TX\, 78148\, United States
ATTACH;FMTTYPE=image/jpeg:https://newlifesa.net/wp-content/uploads/2026/01/ladieslife.jpg
ORGANIZER;CN="New Life Fellowship":MAILTO:info@newlifesa.net
END:VEVENT
BEGIN:VEVENT
DTSTART;TZID=America/Chicago:20260504T183000
DTEND;TZID=America/Chicago:20260504T203000
DTSTAMP:20260423T185802
CREATED:20250902T220948Z
LAST-MODIFIED:20260406T222119Z
UID:10000376-1777919400-1777926600@newlifesa.net
SUMMARY:LadiesLife
DESCRIPTION:This women’s group meets on the first Monday of each month to pray intentionally over the vision of New Life Fellowship and our local community. As we seek to be fitly joined—united in purpose\, spirit\, and heart—we also enjoy meaningful time together through shared activities\, conversation\, and encouragement. Whether it’s gathering around the table or engaging in fun and faith-building moments\, this group is a space for connection\, intercession\, and growing together in Christ. \nLocation: New Life Cafe\nMeeting Days: 1st Monday\, 6:30pm\nType: Women\nWill childcare be provided: No \nSign Up Today\nName *Phone *Email Address *ChildcareYesDo you need childcare?Select Your Small Group *Groups in session.Discover New LifeLadiesLifeMensLifeServe Team InterestStudent CONNECT (6th-12th Graders)Beyond Church WallsBig Emotions\, BIGGER GOD!Heart Of DavidHome MakerspaceIgniteLove Like JesusMiracles in the Parking LotM.O.F.I.A.(Men of Faith In Action)Pit Masters of PrayerPriscilla & AquilaPurpose Driven LifeTogether on PurposeWater WalkingWarriors of RamothWorship. Hear. Grow.Number of ChildrenAges of Children Sign me up!
URL:https://newlifesa.net/event/ladieslife-2/2026-05-04/
LOCATION:New Life Fellowship\, 11225 E Loop 1604 N\, Universal City\, TX\, 78148\, United States
ATTACH;FMTTYPE=image/jpeg:https://newlifesa.net/wp-content/uploads/2026/01/ladieslife.jpg
ORGANIZER;CN="New Life Fellowship":MAILTO:info@newlifesa.net
END:VEVENT
BEGIN:VEVENT
DTSTART;TZID=America/Chicago:20260517T113000
DTEND;TZID=America/Chicago:20260517T123000
DTSTAMP:20260423T185802
CREATED:20260406T213827Z
LAST-MODIFIED:20260412T121357Z
UID:10000448-1779017400-1779021000@newlifesa.net
SUMMARY:Small Group Connect
DESCRIPTION:Find Your People\, Grow Your Faith! Love your small group? Never been in one? Either way\, this is for YOU! \nJoin us on May 17th after our Sunday Service for Small Group Connect\, where you’ll get a sneak peek at all the groups launching this summer! Whether you’re looking for deep study\, meaningful friendships\, or a place to belong\, there’s a group for you. \nAt New Life\, we believe church isn’t just about Sundays—it’s about relationships. Jesus modeled life in community\, and we want to follow His lead by gathering in homes\, building each other up\, and inviting others into the journey. \nThis isn’t just about you—it’s about us. Our families\, neighbors\, and friends all need spaces where they can experience faith in action. Small groups are one of the most powerful ways to see lives transformed and THE Church grow! \nDon’t miss this chance to find your group\, meet new people\, and step into something life-changing! \n📅 Date: May 17th\n📍 After Sunday Service\n🔍 Explore different small groups & find your fit! \nCome\, connect\, and see how God moves when we do life together!
URL:https://newlifesa.net/event/small-group-connect-2/
LOCATION:New Life Fellowship\, 11225 E Loop 1604 N\, Universal City\, TX\, 78148\, United States
ATTACH;FMTTYPE=image/jpeg:https://newlifesa.net/wp-content/uploads/2026/03/SZN_01_26_3.jpg
ORGANIZER;CN="Small Groups Team":MAILTO:equip@newlifesa.net
END:VEVENT
BEGIN:VEVENT
DTSTART;TZID=America/Chicago:20260524T100000
DTEND;TZID=America/Chicago:20260524T103000
DTSTAMP:20260423T185802
CREATED:20250428T004931Z
LAST-MODIFIED:20260407T012155Z
UID:10000095-1779616800-1779618600@newlifesa.net
SUMMARY:Graduation Recognition
DESCRIPTION:Dear Graduates of 2026\, \nAs the culmination of your academic journey approaches\, we want to make sure your achievements are celebrated in a special way! \nYour success is worth celebrating\, and we look forward to commemorating this momentous occasion with you! If you have any questions or additional details you’d like to share\, feel free to reach out to stulife@newlifesa.net. \nWishing you all the best as you embark on this new chapter! We encourage you to remember the faith you’ve built within our church family. We know Jesus has a wonderful plan for your lift\, and we pray that you will continue to seek His guidance and wisdom. We will continue to keep you in our prayers!
URL:https://newlifesa.net/event/graduation-recognition/
LOCATION:New Life Fellowship\, 11225 E Loop 1604 N\, Universal City\, TX\, 78148\, United States
ATTACH;FMTTYPE=image/gif:https://newlifesa.net/wp-content/uploads/2025/04/Graduation2026.gif
END:VEVENT
BEGIN:VEVENT
DTSTART;TZID=America/Chicago:20260529T183000
DTEND;TZID=America/Chicago:20260529T203000
DTSTAMP:20260423T185802
CREATED:20260402T164029Z
LAST-MODIFIED:20260406T221925Z
UID:10000385-1780079400-1780086600@newlifesa.net
SUMMARY:MensLife Gathering
DESCRIPTION:MensLife is a quarterly gathering for men to connect\, grow\, and pray together. Meeting on the last Friday of each month\, this group is committed to covering New Life Fellowship and our community in intentional prayer while also building strong\, godly friendships. Whether we’re diving into Scripture\, enjoying a good meal\, or taking part in shared activities\, this is a space where men are encouraged\, challenged\, and united in purpose as they walk out their faith together.
URL:https://newlifesa.net/event/menslife-gathering-2/2026-05-29/
ATTACH;FMTTYPE=image/jpeg:https://newlifesa.net/wp-content/uploads/2026/01/menslife.jpg
ORGANIZER;CN="MensLife":MAILTO:equip@newlifesa.net
END:VEVENT
BEGIN:VEVENT
DTSTART;TZID=America/Chicago:20260601T183000
DTEND;TZID=America/Chicago:20260601T203000
DTSTAMP:20260423T185802
CREATED:20250902T220948Z
LAST-MODIFIED:20260406T222119Z
UID:10000377-1780338600-1780345800@newlifesa.net
SUMMARY:LadiesLife
DESCRIPTION:This women’s group meets on the first Monday of each month to pray intentionally over the vision of New Life Fellowship and our local community. As we seek to be fitly joined—united in purpose\, spirit\, and heart—we also enjoy meaningful time together through shared activities\, conversation\, and encouragement. Whether it’s gathering around the table or engaging in fun and faith-building moments\, this group is a space for connection\, intercession\, and growing together in Christ. \nLocation: New Life Cafe\nMeeting Days: 1st Monday\, 6:30pm\nType: Women\nWill childcare be provided: No \nSign Up Today\nName *Phone *Email Address *ChildcareYesDo you need childcare?Select Your Small Group *Groups in session.Discover New LifeLadiesLifeMensLifeServe Team InterestStudent CONNECT (6th-12th Graders)Beyond Church WallsBig Emotions\, BIGGER GOD!Heart Of DavidHome MakerspaceIgniteLove Like JesusMiracles in the Parking LotM.O.F.I.A.(Men of Faith In Action)Pit Masters of PrayerPriscilla & AquilaPurpose Driven LifeTogether on PurposeWater WalkingWarriors of RamothWorship. Hear. Grow.Number of ChildrenAges of Children Sign me up!
URL:https://newlifesa.net/event/ladieslife-2/2026-06-01/
LOCATION:New Life Fellowship\, 11225 E Loop 1604 N\, Universal City\, TX\, 78148\, United States
ATTACH;FMTTYPE=image/jpeg:https://newlifesa.net/wp-content/uploads/2026/01/ladieslife.jpg
ORGANIZER;CN="New Life Fellowship":MAILTO:info@newlifesa.net
END:VEVENT
BEGIN:VEVENT
DTSTART;VALUE=DATE:20260607
DTEND;VALUE=DATE:20260608
DTSTAMP:20260423T185802
CREATED:20260406T214930Z
LAST-MODIFIED:20260407T010129Z
UID:10000449-1780790400-1780876799@newlifesa.net
SUMMARY:Small Group Summer Semester
DESCRIPTION:
URL:https://newlifesa.net/event/summer-semester/
ATTACH;FMTTYPE=image/jpeg:https://newlifesa.net/wp-content/uploads/2026/04/SZN02—2026—June-Aug.jpg
ORGANIZER;CN="Small Groups Team":MAILTO:equip@newlifesa.net
END:VEVENT
BEGIN:VEVENT
DTSTART;TZID=America/Chicago:20260706T183000
DTEND;TZID=America/Chicago:20260706T203000
DTSTAMP:20260423T185802
CREATED:20250902T220948Z
LAST-MODIFIED:20260406T222119Z
UID:10000378-1783362600-1783369800@newlifesa.net
SUMMARY:LadiesLife
DESCRIPTION:This women’s group meets on the first Monday of each month to pray intentionally over the vision of New Life Fellowship and our local community. As we seek to be fitly joined—united in purpose\, spirit\, and heart—we also enjoy meaningful time together through shared activities\, conversation\, and encouragement. Whether it’s gathering around the table or engaging in fun and faith-building moments\, this group is a space for connection\, intercession\, and growing together in Christ. \nLocation: New Life Cafe\nMeeting Days: 1st Monday\, 6:30pm\nType: Women\nWill childcare be provided: No \nSign Up Today\nName *Phone *Email Address *ChildcareYesDo you need childcare?Select Your Small Group *Groups in session.Discover New LifeLadiesLifeMensLifeServe Team InterestStudent CONNECT (6th-12th Graders)Beyond Church WallsBig Emotions\, BIGGER GOD!Heart Of DavidHome MakerspaceIgniteLove Like JesusMiracles in the Parking LotM.O.F.I.A.(Men of Faith In Action)Pit Masters of PrayerPriscilla & AquilaPurpose Driven LifeTogether on PurposeWater WalkingWarriors of RamothWorship. Hear. Grow.Number of ChildrenAges of Children Sign me up!
URL:https://newlifesa.net/event/ladieslife-2/2026-07-06/
LOCATION:New Life Fellowship\, 11225 E Loop 1604 N\, Universal City\, TX\, 78148\, United States
ATTACH;FMTTYPE=image/jpeg:https://newlifesa.net/wp-content/uploads/2026/01/ladieslife.jpg
ORGANIZER;CN="New Life Fellowship":MAILTO:info@newlifesa.net
END:VEVENT
BEGIN:VEVENT
DTSTART;TZID=America/Chicago:20260828T183000
DTEND;TZID=America/Chicago:20260828T203000
DTSTAMP:20260423T185802
CREATED:20260402T164029Z
LAST-MODIFIED:20260406T221925Z
UID:10000456-1787941800-1787949000@newlifesa.net
SUMMARY:MensLife Gathering
DESCRIPTION:MensLife is a quarterly gathering for men to connect\, grow\, and pray together. Meeting on the last Friday of each month\, this group is committed to covering New Life Fellowship and our community in intentional prayer while also building strong\, godly friendships. Whether we’re diving into Scripture\, enjoying a good meal\, or taking part in shared activities\, this is a space where men are encouraged\, challenged\, and united in purpose as they walk out their faith together.
URL:https://newlifesa.net/event/menslife-gathering-2/2026-08-28/
ATTACH;FMTTYPE=image/jpeg:https://newlifesa.net/wp-content/uploads/2026/01/menslife.jpg
ORGANIZER;CN="MensLife":MAILTO:equip@newlifesa.net
END:VEVENT
BEGIN:VEVENT
DTSTART;VALUE=DATE:20260906
DTEND;VALUE=DATE:20260907
DTSTAMP:20260423T185802
CREATED:20260406T220943Z
LAST-MODIFIED:20260407T010301Z
UID:10000450-1788652800-1788739199@newlifesa.net
SUMMARY:Small Group Fall Semester
DESCRIPTION:
URL:https://newlifesa.net/event/fall-semester/2026-09-06/
ATTACH;FMTTYPE=image/jpeg:https://newlifesa.net/wp-content/uploads/2026/04/SZN03—2026—Aug-Sept.jpg
ORGANIZER;CN="Small Groups Team":MAILTO:equip@newlifesa.net
END:VEVENT
BEGIN:VEVENT
DTSTART;TZID=America/Chicago:20260907T183000
DTEND;TZID=America/Chicago:20260907T203000
DTSTAMP:20260423T185802
CREATED:20250902T220948Z
LAST-MODIFIED:20260406T222119Z
UID:10000380-1788805800-1788813000@newlifesa.net
SUMMARY:LadiesLife
DESCRIPTION:This women’s group meets on the first Monday of each month to pray intentionally over the vision of New Life Fellowship and our local community. As we seek to be fitly joined—united in purpose\, spirit\, and heart—we also enjoy meaningful time together through shared activities\, conversation\, and encouragement. Whether it’s gathering around the table or engaging in fun and faith-building moments\, this group is a space for connection\, intercession\, and growing together in Christ. \nLocation: New Life Cafe\nMeeting Days: 1st Monday\, 6:30pm\nType: Women\nWill childcare be provided: No \nSign Up Today\nName *Phone *Email Address *ChildcareYesDo you need childcare?Select Your Small Group *Groups in session.Discover New LifeLadiesLifeMensLifeServe Team InterestStudent CONNECT (6th-12th Graders)Beyond Church WallsBig Emotions\, BIGGER GOD!Heart Of DavidHome MakerspaceIgniteLove Like JesusMiracles in the Parking LotM.O.F.I.A.(Men of Faith In Action)Pit Masters of PrayerPriscilla & AquilaPurpose Driven LifeTogether on PurposeWater WalkingWarriors of RamothWorship. Hear. Grow.Number of ChildrenAges of Children Sign me up!
URL:https://newlifesa.net/event/ladieslife-2/2026-09-07/
LOCATION:New Life Fellowship\, 11225 E Loop 1604 N\, Universal City\, TX\, 78148\, United States
ATTACH;FMTTYPE=image/jpeg:https://newlifesa.net/wp-content/uploads/2026/01/ladieslife.jpg
ORGANIZER;CN="New Life Fellowship":MAILTO:info@newlifesa.net
END:VEVENT
BEGIN:VEVENT
DTSTART;VALUE=DATE:20261004
DTEND;VALUE=DATE:20261005
DTSTAMP:20260423T185802
CREATED:20260406T220943Z
LAST-MODIFIED:20260407T010301Z
UID:10000451-1791072000-1791158399@newlifesa.net
SUMMARY:Small Group Fall Semester
DESCRIPTION:
URL:https://newlifesa.net/event/fall-semester/2026-10-04/
ATTACH;FMTTYPE=image/jpeg:https://newlifesa.net/wp-content/uploads/2026/04/SZN03—2026—Aug-Sept.jpg
ORGANIZER;CN="Small Groups Team":MAILTO:equip@newlifesa.net
END:VEVENT
BEGIN:VEVENT
DTSTART;TZID=America/Chicago:20261005T183000
DTEND;TZID=America/Chicago:20261005T203000
DTSTAMP:20260423T185802
CREATED:20250902T220948Z
LAST-MODIFIED:20260406T222119Z
UID:10000381-1791225000-1791232200@newlifesa.net
SUMMARY:LadiesLife
DESCRIPTION:This women’s group meets on the first Monday of each month to pray intentionally over the vision of New Life Fellowship and our local community. As we seek to be fitly joined—united in purpose\, spirit\, and heart—we also enjoy meaningful time together through shared activities\, conversation\, and encouragement. Whether it’s gathering around the table or engaging in fun and faith-building moments\, this group is a space for connection\, intercession\, and growing together in Christ. \nLocation: New Life Cafe\nMeeting Days: 1st Monday\, 6:30pm\nType: Women\nWill childcare be provided: No \nSign Up Today\nName *Phone *Email Address *ChildcareYesDo you need childcare?Select Your Small Group *Groups in session.Discover New LifeLadiesLifeMensLifeServe Team InterestStudent CONNECT (6th-12th Graders)Beyond Church WallsBig Emotions\, BIGGER GOD!Heart Of DavidHome MakerspaceIgniteLove Like JesusMiracles in the Parking LotM.O.F.I.A.(Men of Faith In Action)Pit Masters of PrayerPriscilla & AquilaPurpose Driven LifeTogether on PurposeWater WalkingWarriors of RamothWorship. Hear. Grow.Number of ChildrenAges of Children Sign me up!
URL:https://newlifesa.net/event/ladieslife-2/2026-10-05/
LOCATION:New Life Fellowship\, 11225 E Loop 1604 N\, Universal City\, TX\, 78148\, United States
ATTACH;FMTTYPE=image/jpeg:https://newlifesa.net/wp-content/uploads/2026/01/ladieslife.jpg
ORGANIZER;CN="New Life Fellowship":MAILTO:info@newlifesa.net
END:VEVENT
BEGIN:VEVENT
DTSTART;VALUE=DATE:20261101
DTEND;VALUE=DATE:20261102
DTSTAMP:20260423T185802
CREATED:20260406T220943Z
LAST-MODIFIED:20260407T010301Z
UID:10000452-1793491200-1793573999@newlifesa.net
SUMMARY:Small Group Fall Semester
DESCRIPTION:
URL:https://newlifesa.net/event/fall-semester/2026-11-01/
ATTACH;FMTTYPE=image/jpeg:https://newlifesa.net/wp-content/uploads/2026/04/SZN03—2026—Aug-Sept.jpg
ORGANIZER;CN="Small Groups Team":MAILTO:equip@newlifesa.net
END:VEVENT
BEGIN:VEVENT
DTSTART;TZID=America/Chicago:20261102T183000
DTEND;TZID=America/Chicago:20261102T203000
DTSTAMP:20260423T185802
CREATED:20250902T220948Z
LAST-MODIFIED:20260406T222119Z
UID:10000382-1793644200-1793651400@newlifesa.net
SUMMARY:LadiesLife
DESCRIPTION:This women’s group meets on the first Monday of each month to pray intentionally over the vision of New Life Fellowship and our local community. As we seek to be fitly joined—united in purpose\, spirit\, and heart—we also enjoy meaningful time together through shared activities\, conversation\, and encouragement. Whether it’s gathering around the table or engaging in fun and faith-building moments\, this group is a space for connection\, intercession\, and growing together in Christ. \nLocation: New Life Cafe\nMeeting Days: 1st Monday\, 6:30pm\nType: Women\nWill childcare be provided: No \nSign Up Today\nName *Phone *Email Address *ChildcareYesDo you need childcare?Select Your Small Group *Groups in session.Discover New LifeLadiesLifeMensLifeServe Team InterestStudent CONNECT (6th-12th Graders)Beyond Church WallsBig Emotions\, BIGGER GOD!Heart Of DavidHome MakerspaceIgniteLove Like JesusMiracles in the Parking LotM.O.F.I.A.(Men of Faith In Action)Pit Masters of PrayerPriscilla & AquilaPurpose Driven LifeTogether on PurposeWater WalkingWarriors of RamothWorship. Hear. Grow.Number of ChildrenAges of Children Sign me up!
URL:https://newlifesa.net/event/ladieslife-2/2026-11-02/
LOCATION:New Life Fellowship\, 11225 E Loop 1604 N\, Universal City\, TX\, 78148\, United States
ATTACH;FMTTYPE=image/jpeg:https://newlifesa.net/wp-content/uploads/2026/01/ladieslife.jpg
ORGANIZER;CN="New Life Fellowship":MAILTO:info@newlifesa.net
END:VEVENT
BEGIN:VEVENT
DTSTART;TZID=America/Chicago:20261127T183000
DTEND;TZID=America/Chicago:20261127T203000
DTSTAMP:20260423T185802
CREATED:20260402T164029Z
LAST-MODIFIED:20260406T221925Z
UID:10000457-1795804200-1795811400@newlifesa.net
SUMMARY:MensLife Gathering
DESCRIPTION:MensLife is a quarterly gathering for men to connect\, grow\, and pray together. Meeting on the last Friday of each month\, this group is committed to covering New Life Fellowship and our community in intentional prayer while also building strong\, godly friendships. Whether we’re diving into Scripture\, enjoying a good meal\, or taking part in shared activities\, this is a space where men are encouraged\, challenged\, and united in purpose as they walk out their faith together.
URL:https://newlifesa.net/event/menslife-gathering-2/2026-11-27/
ATTACH;FMTTYPE=image/jpeg:https://newlifesa.net/wp-content/uploads/2026/01/menslife.jpg
ORGANIZER;CN="MensLife":MAILTO:equip@newlifesa.net
END:VEVENT
BEGIN:VEVENT
DTSTART;TZID=America/Chicago:20261207T183000
DTEND;TZID=America/Chicago:20261207T203000
DTSTAMP:20260423T185802
CREATED:20250902T220948Z
LAST-MODIFIED:20260406T222119Z
UID:10000383-1796668200-1796675400@newlifesa.net
SUMMARY:LadiesLife
DESCRIPTION:This women’s group meets on the first Monday of each month to pray intentionally over the vision of New Life Fellowship and our local community. As we seek to be fitly joined—united in purpose\, spirit\, and heart—we also enjoy meaningful time together through shared activities\, conversation\, and encouragement. Whether it’s gathering around the table or engaging in fun and faith-building moments\, this group is a space for connection\, intercession\, and growing together in Christ. \nLocation: New Life Cafe\nMeeting Days: 1st Monday\, 6:30pm\nType: Women\nWill childcare be provided: No \nSign Up Today\nName *Phone *Email Address *ChildcareYesDo you need childcare?Select Your Small Group *Groups in session.Discover New LifeLadiesLifeMensLifeServe Team InterestStudent CONNECT (6th-12th Graders)Beyond Church WallsBig Emotions\, BIGGER GOD!Heart Of DavidHome MakerspaceIgniteLove Like JesusMiracles in the Parking LotM.O.F.I.A.(Men of Faith In Action)Pit Masters of PrayerPriscilla & AquilaPurpose Driven LifeTogether on PurposeWater WalkingWarriors of RamothWorship. Hear. Grow.Number of ChildrenAges of Children Sign me up!
URL:https://newlifesa.net/event/ladieslife-2/2026-12-07/
LOCATION:New Life Fellowship\, 11225 E Loop 1604 N\, Universal City\, TX\, 78148\, United States
ATTACH;FMTTYPE=image/jpeg:https://newlifesa.net/wp-content/uploads/2026/01/ladieslife.jpg
ORGANIZER;CN="New Life Fellowship":MAILTO:info@newlifesa.net
END:VEVENT
BEGIN:VEVENT
DTSTART;VALUE=DATE:20270207
DTEND;VALUE=DATE:20270208
DTSTAMP:20260423T185802
CREATED:20260406T221530Z
LAST-MODIFIED:20260407T010250Z
UID:10000453-1801958400-1802044799@newlifesa.net
SUMMARY:Spring Small Group Semester
DESCRIPTION:
URL:https://newlifesa.net/event/spring-small-group-semester/2027-02-07/
ORGANIZER;CN="Small Groups Team":MAILTO:equip@newlifesa.net
END:VEVENT
BEGIN:VEVENT
DTSTART;VALUE=DATE:20270307
DTEND;VALUE=DATE:20270308
DTSTAMP:20260423T185802
CREATED:20260406T221530Z
LAST-MODIFIED:20260407T010250Z
UID:10000454-1804377600-1804463999@newlifesa.net
SUMMARY:Spring Small Group Semester
DESCRIPTION:
URL:https://newlifesa.net/event/spring-small-group-semester/2027-03-07/
ORGANIZER;CN="Small Groups Team":MAILTO:equip@newlifesa.net
END:VEVENT
BEGIN:VEVENT
DTSTART;VALUE=DATE:20270404
DTEND;VALUE=DATE:20270405
DTSTAMP:20260423T185802
CREATED:20260406T221530Z
LAST-MODIFIED:20260407T010250Z
UID:10000455-1806796800-1806883199@newlifesa.net
SUMMARY:Spring Small Group Semester
DESCRIPTION:
URL:https://newlifesa.net/event/spring-small-group-semester/2027-04-04/
ORGANIZER;CN="Small Groups Team":MAILTO:equip@newlifesa.net
END:VEVENT
END:VCALENDAR