BEGIN:VCALENDAR
VERSION:2.0
PRODID:-//New Life Fellowship - ECPv6.15.20//NONSGML v1.0//EN
CALSCALE:GREGORIAN
METHOD:PUBLISH
X-ORIGINAL-URL:https://newlifesa.net
X-WR-CALDESC:Events for New Life Fellowship
REFRESH-INTERVAL;VALUE=DURATION:PT1H
X-Robots-Tag:noindex
X-PUBLISHED-TTL:PT1H
BEGIN:VTIMEZONE
TZID:America/Chicago
BEGIN:DAYLIGHT
TZOFFSETFROM:-0600
TZOFFSETTO:-0500
TZNAME:CDT
DTSTART:20240310T080000
END:DAYLIGHT
BEGIN:STANDARD
TZOFFSETFROM:-0500
TZOFFSETTO:-0600
TZNAME:CST
DTSTART:20241103T070000
END:STANDARD
BEGIN:DAYLIGHT
TZOFFSETFROM:-0600
TZOFFSETTO:-0500
TZNAME:CDT
DTSTART:20250309T080000
END:DAYLIGHT
BEGIN:STANDARD
TZOFFSETFROM:-0500
TZOFFSETTO:-0600
TZNAME:CST
DTSTART:20251102T070000
END:STANDARD
BEGIN:DAYLIGHT
TZOFFSETFROM:-0600
TZOFFSETTO:-0500
TZNAME:CDT
DTSTART:20260308T080000
END:DAYLIGHT
BEGIN:STANDARD
TZOFFSETFROM:-0500
TZOFFSETTO:-0600
TZNAME:CST
DTSTART:20261101T070000
END:STANDARD
END:VTIMEZONE
BEGIN:VEVENT
DTSTART;TZID=America/Chicago:20250427T090000
DTEND;TZID=America/Chicago:20250427T100000
DTSTAMP:20260423T121833
CREATED:20250208T140657Z
LAST-MODIFIED:20250208T141628Z
UID:10000086-1745744400-1745748000@newlifesa.net
SUMMARY:Discover New Life
DESCRIPTION:Discover New Life\nWould you like to know more about New Life? Then attend our vision small group that meets on Sunday mornings at 9am and DISCOVER NEW LIFE. You’ll get to dive more into what our Vision\, Mission\, Purpose\, Culture and how we do life together. \nUpcoming Start Dates*\nJanuary 11April 5July 5September 7 \nSunday mornings at 9:00 am in the Conference Room (Childcare is provided.) \n*Dates are subject to change.
URL:https://newlifesa.net/event/discover-new-life/
LOCATION:New Life Fellowship\, 11225 E Loop 1604 N\, Universal City\, TX\, 78148\, United States
ATTACH;FMTTYPE=image/jpeg:https://newlifesa.net/wp-content/uploads/2021/10/discover_newlife.jpg
ORGANIZER;CN="Small Groups Team":MAILTO:equip@newlifesa.net
END:VEVENT
END:VCALENDAR