BEGIN:VCALENDAR
VERSION:2.0
PRODID:-//New Life Fellowship - ECPv6.15.20//NONSGML v1.0//EN
CALSCALE:GREGORIAN
METHOD:PUBLISH
X-WR-CALNAME:New Life Fellowship
X-ORIGINAL-URL:https://newlifesa.net
X-WR-CALDESC:Events for New Life Fellowship
REFRESH-INTERVAL;VALUE=DURATION:PT1H
X-Robots-Tag:noindex
X-PUBLISHED-TTL:PT1H
BEGIN:VTIMEZONE
TZID:America/Chicago
BEGIN:DAYLIGHT
TZOFFSETFROM:-0600
TZOFFSETTO:-0500
TZNAME:CDT
DTSTART:20250309T080000
END:DAYLIGHT
BEGIN:STANDARD
TZOFFSETFROM:-0500
TZOFFSETTO:-0600
TZNAME:CST
DTSTART:20251102T070000
END:STANDARD
BEGIN:DAYLIGHT
TZOFFSETFROM:-0600
TZOFFSETTO:-0500
TZNAME:CDT
DTSTART:20260308T080000
END:DAYLIGHT
BEGIN:STANDARD
TZOFFSETFROM:-0500
TZOFFSETTO:-0600
TZNAME:CST
DTSTART:20261101T070000
END:STANDARD
BEGIN:DAYLIGHT
TZOFFSETFROM:-0600
TZOFFSETTO:-0500
TZNAME:CDT
DTSTART:20270314T080000
END:DAYLIGHT
BEGIN:STANDARD
TZOFFSETFROM:-0500
TZOFFSETTO:-0600
TZNAME:CST
DTSTART:20271107T070000
END:STANDARD
END:VTIMEZONE
BEGIN:VEVENT
DTSTART;TZID=America/Chicago:20260504T183000
DTEND;TZID=America/Chicago:20260504T203000
DTSTAMP:20260423T131331
CREATED:20250902T220948Z
LAST-MODIFIED:20260406T222119Z
UID:10000376-1777919400-1777926600@newlifesa.net
SUMMARY:LadiesLife
DESCRIPTION:This women’s group meets on the first Monday of each month to pray intentionally over the vision of New Life Fellowship and our local community. As we seek to be fitly joined—united in purpose\, spirit\, and heart—we also enjoy meaningful time together through shared activities\, conversation\, and encouragement. Whether it’s gathering around the table or engaging in fun and faith-building moments\, this group is a space for connection\, intercession\, and growing together in Christ. \nLocation: New Life Cafe\nMeeting Days: 1st Monday\, 6:30pm\nType: Women\nWill childcare be provided: No \nSign Up Today\nName *Phone *Email Address *ChildcareYesDo you need childcare?Select Your Small Group *Groups in session.Discover New LifeLadiesLifeMensLifeServe Team InterestStudent CONNECT (6th-12th Graders)Beyond Church WallsBig Emotions\, BIGGER GOD!Heart Of DavidHome MakerspaceIgniteLove Like JesusMiracles in the Parking LotM.O.F.I.A.(Men of Faith In Action)Pit Masters of PrayerPriscilla & AquilaPurpose Driven LifeTogether on PurposeWater WalkingWarriors of RamothWorship. Hear. Grow.Number of ChildrenAges of Children Sign me up!
URL:https://newlifesa.net/event/ladieslife-2/2026-05-04/
LOCATION:New Life Fellowship\, 11225 E Loop 1604 N\, Universal City\, TX\, 78148\, United States
ATTACH;FMTTYPE=image/jpeg:https://newlifesa.net/wp-content/uploads/2026/01/ladieslife.jpg
ORGANIZER;CN="New Life Fellowship":MAILTO:info@newlifesa.net
END:VEVENT
BEGIN:VEVENT
DTSTART;TZID=America/Chicago:20260601T183000
DTEND;TZID=America/Chicago:20260601T203000
DTSTAMP:20260423T131331
CREATED:20250902T220948Z
LAST-MODIFIED:20260406T222119Z
UID:10000377-1780338600-1780345800@newlifesa.net
SUMMARY:LadiesLife
DESCRIPTION:This women’s group meets on the first Monday of each month to pray intentionally over the vision of New Life Fellowship and our local community. As we seek to be fitly joined—united in purpose\, spirit\, and heart—we also enjoy meaningful time together through shared activities\, conversation\, and encouragement. Whether it’s gathering around the table or engaging in fun and faith-building moments\, this group is a space for connection\, intercession\, and growing together in Christ. \nLocation: New Life Cafe\nMeeting Days: 1st Monday\, 6:30pm\nType: Women\nWill childcare be provided: No \nSign Up Today\nName *Phone *Email Address *ChildcareYesDo you need childcare?Select Your Small Group *Groups in session.Discover New LifeLadiesLifeMensLifeServe Team InterestStudent CONNECT (6th-12th Graders)Beyond Church WallsBig Emotions\, BIGGER GOD!Heart Of DavidHome MakerspaceIgniteLove Like JesusMiracles in the Parking LotM.O.F.I.A.(Men of Faith In Action)Pit Masters of PrayerPriscilla & AquilaPurpose Driven LifeTogether on PurposeWater WalkingWarriors of RamothWorship. Hear. Grow.Number of ChildrenAges of Children Sign me up!
URL:https://newlifesa.net/event/ladieslife-2/2026-06-01/
LOCATION:New Life Fellowship\, 11225 E Loop 1604 N\, Universal City\, TX\, 78148\, United States
ATTACH;FMTTYPE=image/jpeg:https://newlifesa.net/wp-content/uploads/2026/01/ladieslife.jpg
ORGANIZER;CN="New Life Fellowship":MAILTO:info@newlifesa.net
END:VEVENT
BEGIN:VEVENT
DTSTART;TZID=America/Chicago:20260706T183000
DTEND;TZID=America/Chicago:20260706T203000
DTSTAMP:20260423T131331
CREATED:20250902T220948Z
LAST-MODIFIED:20260406T222119Z
UID:10000378-1783362600-1783369800@newlifesa.net
SUMMARY:LadiesLife
DESCRIPTION:This women’s group meets on the first Monday of each month to pray intentionally over the vision of New Life Fellowship and our local community. As we seek to be fitly joined—united in purpose\, spirit\, and heart—we also enjoy meaningful time together through shared activities\, conversation\, and encouragement. Whether it’s gathering around the table or engaging in fun and faith-building moments\, this group is a space for connection\, intercession\, and growing together in Christ. \nLocation: New Life Cafe\nMeeting Days: 1st Monday\, 6:30pm\nType: Women\nWill childcare be provided: No \nSign Up Today\nName *Phone *Email Address *ChildcareYesDo you need childcare?Select Your Small Group *Groups in session.Discover New LifeLadiesLifeMensLifeServe Team InterestStudent CONNECT (6th-12th Graders)Beyond Church WallsBig Emotions\, BIGGER GOD!Heart Of DavidHome MakerspaceIgniteLove Like JesusMiracles in the Parking LotM.O.F.I.A.(Men of Faith In Action)Pit Masters of PrayerPriscilla & AquilaPurpose Driven LifeTogether on PurposeWater WalkingWarriors of RamothWorship. Hear. Grow.Number of ChildrenAges of Children Sign me up!
URL:https://newlifesa.net/event/ladieslife-2/2026-07-06/
LOCATION:New Life Fellowship\, 11225 E Loop 1604 N\, Universal City\, TX\, 78148\, United States
ATTACH;FMTTYPE=image/jpeg:https://newlifesa.net/wp-content/uploads/2026/01/ladieslife.jpg
ORGANIZER;CN="New Life Fellowship":MAILTO:info@newlifesa.net
END:VEVENT
BEGIN:VEVENT
DTSTART;TZID=America/Chicago:20260907T183000
DTEND;TZID=America/Chicago:20260907T203000
DTSTAMP:20260423T131331
CREATED:20250902T220948Z
LAST-MODIFIED:20260406T222119Z
UID:10000380-1788805800-1788813000@newlifesa.net
SUMMARY:LadiesLife
DESCRIPTION:This women’s group meets on the first Monday of each month to pray intentionally over the vision of New Life Fellowship and our local community. As we seek to be fitly joined—united in purpose\, spirit\, and heart—we also enjoy meaningful time together through shared activities\, conversation\, and encouragement. Whether it’s gathering around the table or engaging in fun and faith-building moments\, this group is a space for connection\, intercession\, and growing together in Christ. \nLocation: New Life Cafe\nMeeting Days: 1st Monday\, 6:30pm\nType: Women\nWill childcare be provided: No \nSign Up Today\nName *Phone *Email Address *ChildcareYesDo you need childcare?Select Your Small Group *Groups in session.Discover New LifeLadiesLifeMensLifeServe Team InterestStudent CONNECT (6th-12th Graders)Beyond Church WallsBig Emotions\, BIGGER GOD!Heart Of DavidHome MakerspaceIgniteLove Like JesusMiracles in the Parking LotM.O.F.I.A.(Men of Faith In Action)Pit Masters of PrayerPriscilla & AquilaPurpose Driven LifeTogether on PurposeWater WalkingWarriors of RamothWorship. Hear. Grow.Number of ChildrenAges of Children Sign me up!
URL:https://newlifesa.net/event/ladieslife-2/2026-09-07/
LOCATION:New Life Fellowship\, 11225 E Loop 1604 N\, Universal City\, TX\, 78148\, United States
ATTACH;FMTTYPE=image/jpeg:https://newlifesa.net/wp-content/uploads/2026/01/ladieslife.jpg
ORGANIZER;CN="New Life Fellowship":MAILTO:info@newlifesa.net
END:VEVENT
BEGIN:VEVENT
DTSTART;TZID=America/Chicago:20261005T183000
DTEND;TZID=America/Chicago:20261005T203000
DTSTAMP:20260423T131331
CREATED:20250902T220948Z
LAST-MODIFIED:20260406T222119Z
UID:10000381-1791225000-1791232200@newlifesa.net
SUMMARY:LadiesLife
DESCRIPTION:This women’s group meets on the first Monday of each month to pray intentionally over the vision of New Life Fellowship and our local community. As we seek to be fitly joined—united in purpose\, spirit\, and heart—we also enjoy meaningful time together through shared activities\, conversation\, and encouragement. Whether it’s gathering around the table or engaging in fun and faith-building moments\, this group is a space for connection\, intercession\, and growing together in Christ. \nLocation: New Life Cafe\nMeeting Days: 1st Monday\, 6:30pm\nType: Women\nWill childcare be provided: No \nSign Up Today\nName *Phone *Email Address *ChildcareYesDo you need childcare?Select Your Small Group *Groups in session.Discover New LifeLadiesLifeMensLifeServe Team InterestStudent CONNECT (6th-12th Graders)Beyond Church WallsBig Emotions\, BIGGER GOD!Heart Of DavidHome MakerspaceIgniteLove Like JesusMiracles in the Parking LotM.O.F.I.A.(Men of Faith In Action)Pit Masters of PrayerPriscilla & AquilaPurpose Driven LifeTogether on PurposeWater WalkingWarriors of RamothWorship. Hear. Grow.Number of ChildrenAges of Children Sign me up!
URL:https://newlifesa.net/event/ladieslife-2/2026-10-05/
LOCATION:New Life Fellowship\, 11225 E Loop 1604 N\, Universal City\, TX\, 78148\, United States
ATTACH;FMTTYPE=image/jpeg:https://newlifesa.net/wp-content/uploads/2026/01/ladieslife.jpg
ORGANIZER;CN="New Life Fellowship":MAILTO:info@newlifesa.net
END:VEVENT
BEGIN:VEVENT
DTSTART;TZID=America/Chicago:20261102T183000
DTEND;TZID=America/Chicago:20261102T203000
DTSTAMP:20260423T131331
CREATED:20250902T220948Z
LAST-MODIFIED:20260406T222119Z
UID:10000382-1793644200-1793651400@newlifesa.net
SUMMARY:LadiesLife
DESCRIPTION:This women’s group meets on the first Monday of each month to pray intentionally over the vision of New Life Fellowship and our local community. As we seek to be fitly joined—united in purpose\, spirit\, and heart—we also enjoy meaningful time together through shared activities\, conversation\, and encouragement. Whether it’s gathering around the table or engaging in fun and faith-building moments\, this group is a space for connection\, intercession\, and growing together in Christ. \nLocation: New Life Cafe\nMeeting Days: 1st Monday\, 6:30pm\nType: Women\nWill childcare be provided: No \nSign Up Today\nName *Phone *Email Address *ChildcareYesDo you need childcare?Select Your Small Group *Groups in session.Discover New LifeLadiesLifeMensLifeServe Team InterestStudent CONNECT (6th-12th Graders)Beyond Church WallsBig Emotions\, BIGGER GOD!Heart Of DavidHome MakerspaceIgniteLove Like JesusMiracles in the Parking LotM.O.F.I.A.(Men of Faith In Action)Pit Masters of PrayerPriscilla & AquilaPurpose Driven LifeTogether on PurposeWater WalkingWarriors of RamothWorship. Hear. Grow.Number of ChildrenAges of Children Sign me up!
URL:https://newlifesa.net/event/ladieslife-2/2026-11-02/
LOCATION:New Life Fellowship\, 11225 E Loop 1604 N\, Universal City\, TX\, 78148\, United States
ATTACH;FMTTYPE=image/jpeg:https://newlifesa.net/wp-content/uploads/2026/01/ladieslife.jpg
ORGANIZER;CN="New Life Fellowship":MAILTO:info@newlifesa.net
END:VEVENT
BEGIN:VEVENT
DTSTART;TZID=America/Chicago:20261207T183000
DTEND;TZID=America/Chicago:20261207T203000
DTSTAMP:20260423T131331
CREATED:20250902T220948Z
LAST-MODIFIED:20260406T222119Z
UID:10000383-1796668200-1796675400@newlifesa.net
SUMMARY:LadiesLife
DESCRIPTION:This women’s group meets on the first Monday of each month to pray intentionally over the vision of New Life Fellowship and our local community. As we seek to be fitly joined—united in purpose\, spirit\, and heart—we also enjoy meaningful time together through shared activities\, conversation\, and encouragement. Whether it’s gathering around the table or engaging in fun and faith-building moments\, this group is a space for connection\, intercession\, and growing together in Christ. \nLocation: New Life Cafe\nMeeting Days: 1st Monday\, 6:30pm\nType: Women\nWill childcare be provided: No \nSign Up Today\nName *Phone *Email Address *ChildcareYesDo you need childcare?Select Your Small Group *Groups in session.Discover New LifeLadiesLifeMensLifeServe Team InterestStudent CONNECT (6th-12th Graders)Beyond Church WallsBig Emotions\, BIGGER GOD!Heart Of DavidHome MakerspaceIgniteLove Like JesusMiracles in the Parking LotM.O.F.I.A.(Men of Faith In Action)Pit Masters of PrayerPriscilla & AquilaPurpose Driven LifeTogether on PurposeWater WalkingWarriors of RamothWorship. Hear. Grow.Number of ChildrenAges of Children Sign me up!
URL:https://newlifesa.net/event/ladieslife-2/2026-12-07/
LOCATION:New Life Fellowship\, 11225 E Loop 1604 N\, Universal City\, TX\, 78148\, United States
ATTACH;FMTTYPE=image/jpeg:https://newlifesa.net/wp-content/uploads/2026/01/ladieslife.jpg
ORGANIZER;CN="New Life Fellowship":MAILTO:info@newlifesa.net
END:VEVENT
END:VCALENDAR